BEGIN:VCALENDAR
VERSION:2.0
PRODID:-//Library Market//iCal Export//EN
BEGIN:VEVENT
SUMMARY:Polish Book Club
UID:34797
DTSTAMP:20260423T035800Z
DTSTART:20260711T191500Z
DTEND:20260711T203000Z
LOCATION:Butman-Fish, 1716 Hancock Street, Saginaw, MI 48602, United State
 s
ROOM: Butman-Fish Library Meeting Room
DESCRIPTION:We invite all to a book discussion! In July, we will be readin
 g The Doll (Lalka) by Boleslaw Prus, a classic of 19th century Polish lite
 rature.\r\nPrus depicts Polish life in Warsaw in the late 19th century, ec
 ompassing all classes of society. Our hero, Stanislaw Wokulski, is a merch
 ant who, for the love of an upper-class woman, has taken risks to enhance 
 his fortune and bestow his generosity on the poor souls he meets in the sl
 ums of Warsaw. He has a midlife crisis of sorts and wants to be a better m
 an and leave his mark on the world; he convinces himself that the best way
  to do this is to marry a highborn woman, Izabela Lecka.\r\n*Please note t
 his is not an official library event.\r\n*To receive notifications about t
 his or other events, please follow Tri-City Polish Heritage Society on Fac
 ebook or contact polisheventsmichigan@gmail.com
URL:https://www.saginawlibrary.org/event/polish-book-club-34797
END:VEVENT
END:VCALENDAR
