BEGIN:VCALENDAR
VERSION:2.0
PRODID:-//Library Market//iCal Export//EN
BEGIN:VEVENT
SUMMARY:Bookmobile Stop - Meadow Senior Living [Formerly Brookdale]
UID:34792
DTSTAMP:20260420T061700Z
DTSTART:20260702T140000Z
DTEND:20260702T150000Z
LOCATION:Brookdale Senior Living, 2485 McCarty Rd., Saginaw, MI 48603, Uni
 ted States
ROOM: Bookmobile Stop - Meadow Senior Living [Formerly Brookdale]
DESCRIPTION:Join us at Brookdale Senior Living!Explore our mobile library 
 brimming with books for children, teens, and adults, and find your next gr
 eat read! Don’t forget to bring an ID with your current address to sign 
 up for a library card. Check out a Chromebook and get assistance with our
  digital services. Whether you&#039;re a lifelong learner or just looking 
 for some family fun, there’s something for everyone at this fantastic ev
 ent! We can’t wait to see you there!
URL:https://www.saginawlibrary.org/event/bookmobile-stop-meadow-senior-liv
 ing-formerly-brookdale-34792
END:VEVENT
END:VCALENDAR
