BEGIN:VCALENDAR
VERSION:2.0
PRODID:-//Library Market//iCal Export//EN
BEGIN:VEVENT
SUMMARY:Polish Book Club
UID:33721
DTSTAMP:20260422T195200Z
DTSTART:20260418T191500Z
DTEND:20260418T203000Z
LOCATION:Butman-Fish, 1716 Hancock Street, Saginaw, MI 48602, United State
 s
ROOM: Butman-Fish Library Meeting Room
DESCRIPTION:The purpose of this event is to discuss a book translated from
  Polish
URL:https://www.saginawlibrary.org/event/polish-book-club-33721
END:VEVENT
END:VCALENDAR
