BEGIN:VCALENDAR
VERSION:2.0
PRODID:-//Library Market//iCal Export//EN
BEGIN:VEVENT
SUMMARY:Yoga at Butman-Fish
UID:32799
DTSTAMP:20260422T203200Z
DTSTART:20260602T213000Z
DTEND:20260602T223000Z
LOCATION:Butman-Fish, 1716 Hancock Street, Saginaw, MI 48602, United State
 s
ROOM: Butman-Fish Library Meeting Room
DESCRIPTION:Build strength and flexibility along with a calmer mind in thi
 s gentle yoga class for beginners. Learn to focus your breathing, alignmen
 t, and balance while learning the foundations of basic yoga. Please bring 
 your own mat. If you use blocks, blankets, or other props, please feel fre
 e to bring them! Attendees are encouraged to dress in layers.Register for 
 this class below or call 989-799-9160.
URL:https://www.saginawlibrary.org/event/yoga-butman-fish-32799
END:VEVENT
END:VCALENDAR
