BEGIN:VCALENDAR
VERSION:2.0
PRODID:-//Library Market//iCal Export//EN
BEGIN:VEVENT
SUMMARY:LECTURE: The History of Islam in Saginaw
UID:30531
DTSTAMP:20260422T182300Z
DTSTART:20260507T223000Z
DTEND:20260507T233000Z
LOCATION:Hoyt Main, 505 Janes Avenue, Saginaw, MI 48607, United States
ROOM: Hoyt Library Auditorium
DESCRIPTION:Imam Robert Shaheed from the Islamic Center of Saginaw&#039;s 
 Downtown location will lead a lively discussion on the history of the Isla
 mic religion in Michigan at Hoyt on Thursday, May 7 at 6:30 p.m.  Imam Sh
 aheed has been the Imam/Director of Religious Affairs at the Islamic Cente
 r of Saginaw since 1986.  With over forty years experience as an Imam and
  commuity activist Imam Shaheed has worked tirelessly to galvanize the var
 ious ethnicities that constitute the Muslim community.  This event is fre
 e and open to the public, but space is limited, so register online or call
  (989) 755-0904. This lecture is geared towards adults.
URL:https://www.saginawlibrary.org/event/lecture-history-islam-saginaw-305
 31
END:VEVENT
END:VCALENDAR
